BEGIN:VCALENDAR
PRODID:-//kirchenweb.ch gmbh//veranstaltungsausgabe v2.0//DE
VERSION:2.0
METHOD:PUBLISH
BEGIN:VEVENT
DTSTART;VALUE=DATE:20260714
DTEND;VALUE=DATE:20260715
LOCATION:Noiraigue\, \,
TRANSP:OPAQUE
SEQUENCE:0
UID:23241-veranstaltung@kgju.ch
DTSTAMP:20260316T091606Z
DESCRIPTION:Leitung: \nHeinz Deriaz   Tel. 079 574 44 73\nSilvia Brunner
  	Tel. 079 474 20 22\n\nAnmeldeschluss: \n\nBesammlung:\n\nRückkehr: \n
 \nKosten: \n\nMarschdauer\nca. 3.5 Std. 129 m Aufstieg\, 411 Abstieg \n
 \nMitnehmen \nWanderschuhe\, Wanderstöcke\, Wetterschutz\, Sonnenschutz\n
 \nVerpflegung\nAus dem Rucksack \n \nVersicherung: \nIst Sache der
  Teilnehmenden\n\nDurchführung:\nAm Montag 13.07.2026 gibt ab 14.00 Uhr
  die Telefonnummer 031 761 39 25 \noder die Wanderleitung Auskunft. \n
 \nAnmeldung an: \nHeinz Deriaz\nBantigerweg 16\n3303 Jegenstorf\nTel.: 079
  574 44 73\nE-Mail:. heinz.deriaz@bluewin.ch\n\nUnsere nächsten
  Veranstaltunbgen:\n\n\n\nKontakt: heinz.deriaz@kirche-jegenstorf.ch\n
 \nWeitere Infos: https://www.kgju.ch/veranstaltung/23241
SUMMARY:Wandergruppe: Gorges de l'Areuse
PRIORITY:5
X-MICROSOFT-CDO-IMPORTANCE:1
CLASS:PUBLIC
END:VEVENT
END:VCALENDAR
