BEGIN:VCALENDAR
PRODID:-//kirchenweb.ch gmbh//veranstaltungsausgabe v2.0//DE
VERSION:2.0
METHOD:PUBLISH
BEGIN:VEVENT
DTSTART:20220313T183000Z
DTEND:20220313T203000Z
LOCATION:Kirchgemeindehaus\, Iffwilstrasse 6\, 3303 Jegenstorf
TRANSP:OPAQUE
SEQUENCE:0
UID:34558-veranstaltung@kgju.ch
DTSTAMP:20240227T203014Z
DESCRIPTION:Was:\nAls Teil der Ökumenischen Kampagne 2022 schauen wir
  gemeinsam "Power to Change - die Energie-Rebellion" und tauschen über
  den Film und unsere Möglichkeiten aus.\n\nDer Film: Power to Change -
  Die Energie-Rebellion\nDie Zukunft der Energieversorgung der Welt ist
  dezentral\, sauber und zu 100 Prozent aus erneuerbaren Quellen möglich\,
  das zeigt der Dokumentarfilm «Power To Change». Die Dokumentation ist
  eine Reise durch ein Land\, in dem Hunderttausende für die
  Energierevolution kämpfen. Voller Leidenschaft und Hoffnung\, trotz
  einiger Rückschläge\, aber auch erfolgreich. \nUnd «Power To Change»
  blickt weiter: Denn wo die einen sich um Strompreise und
  Speichertechnologien Gedanken machen\, bedeutet Abhängigkeit von
  fossilen Brennstoffen anderswo\, dass von heute auf morgen das eigene
  Haus zerstört ist und die Familie aus ihrer Heimat fliehen muss. Gezeigt
  wird ein Aufbruch in eine Zukunft\, die ohne fossile und atomare
  Energieträger auskommt – die Dokumentation zeigt es berührend\,
  bewegend\, überraschend und informativ.\n\nProgramm\n19.30 Uhr 	Film
  «Power to Change»\n21.00 Uhr 	Austausch\n21.30 Uhr	offizieller Schluss
 \n\nKontakt: samuel.blatter@kirche-urtenen.ch\n\nWeitere Infos:
  https://www.kgju.ch/veranstaltung/34558
SUMMARY:Film - "Power to Change" - Ökumenische Kampagne
PRIORITY:5
X-MICROSOFT-CDO-IMPORTANCE:1
CLASS:PUBLIC
END:VEVENT
END:VCALENDAR
