BEGIN:VCALENDAR
PRODID:-//kirchenweb.ch gmbh//veranstaltungsausgabe v2.0//DE
VERSION:2.0
METHOD:PUBLISH
BEGIN:VEVENT
DTSTART:20230112T190000Z
DTEND:20230112T203000Z
LOCATION:Kirchgemeindehaus\, Iffwilstrasse 6\, 3303 Jegenstorf
TRANSP:OPAQUE
SEQUENCE:0
UID:39719-veranstaltung@kgju.ch
DTSTAMP:20230109T164549Z
DESCRIPTION:Impuls - Austausch - Inspiration und gegenseitige Ermutigung
  für das gemeinsame Unterwegssein im Glauben.\n\nEingeladen sind alle...
 \n- Hauskreise und deren Teilnehmende \n- Interessierte an einem Hauskreis
 \n- Interessengruppe AnbieterInnen\n- Interessengruppe Interessierte \n
 \nEs laden ein...\nAndreas Wiedmer\, Vertreter Mitarbeiterteam
  Kirchenkreis Jegenstorf und Kleingruppen Verantwortlicher\nDavid
  Bringold\, Vertreter Mitarbeiterteam Kirchenkreis Urtenen\n\n\nKontakt:
  andreas.wiedmer\n\nWeitere Infos: https://www.kgju.ch/veranstaltung/39719
SUMMARY:Hauskreisabend
PRIORITY:5
X-MICROSOFT-CDO-IMPORTANCE:1
CLASS:PUBLIC
END:VEVENT
END:VCALENDAR
