BEGIN:VCALENDAR
PRODID:-//kirchenweb.ch gmbh//veranstaltungsausgabe v2.0//DE
VERSION:2.0
METHOD:PUBLISH
BEGIN:VEVENT
DTSTART:20261127T113000Z
DTEND:20261127T150000Z
LOCATION:Jegenstorf (Rotonda) \, \,
TRANSP:OPAQUE
SEQUENCE:0
UID:40270-veranstaltung@kgju.ch
DTSTAMP:20260316T091448Z
DESCRIPTION:Wanderleitung:\nBeat Trüssel		Tel:  079 435 27 59\nSilvia
  Brunner  	Tel:  079 474 20 34\n\nAnmeldeschluss:\n\nBesammlung: \n
 \nBillett:\n\nMarschdauer:\nca. 1 Std. 4.2km 65 m Aufstieg und 42 Meter
  Abstieg\n\nAnforderung:\n* leicht\n\nMitnehmen:  \nWanderschuhe\,
  Wetterschutz\, Wanderstöcke\n\nVersicherung:\nIst Sache der
  Teilnehmenden\n\nDurchführung:\nDie Wanderung findet bei jedem Wetter
  statt.\n\nAnmeldung an:\nBeat Trüssel\nSägetstrasse 9\n3303 Jegenstorf
 \nTel: 079 435 27 59\nE-Mail: beat.truessel@gmx.ch\n\nUnsere nächsten
  Veranstaltungen:\n\n\n\nKontakt: heinz.deriaz@kirche-jegenstorf.ch\n
 \nWeitere Infos: https://www.kgju.ch/veranstaltung/40270
SUMMARY:Wandergruppe: Rotonda
PRIORITY:5
X-MICROSOFT-CDO-IMPORTANCE:1
CLASS:PUBLIC
END:VEVENT
END:VCALENDAR
