BEGIN:VCALENDAR
PRODID:-//kirchenweb.ch gmbh//veranstaltungsausgabe v2.0//DE
VERSION:2.0
METHOD:PUBLISH
BEGIN:VEVENT
DTSTART:20231107T130000Z
DTEND:20231107T140000Z
LOCATION:Kirchgemeindehaus\, Iffwilstrasse 6\, 3303 Jegenstorf
TRANSP:OPAQUE
SEQUENCE:0
UID:41195-veranstaltung@kgju.ch
DTSTAMP:20231019T073406Z
DESCRIPTION:ZEDER - Das Berner "Zeichen der Erinnerung"\n\nDie Praxis der
  fürsorgerischen Zwangsmaßnahmen und Fremdplatzierungen im 19. und 20.
  Jahrhundert ist ein ausgesprochen dunkles Kapitel der jüngeren Schweizer
  Geschichte. Der Kanton Bern war von fürsorgerischen Zwangsmassnahmen der
  am meisten betroffene Kanton der Schweiz. In jeder Gemeinde finden sich
  Geschichten über Menschen\, die das Schicksal eines Verdingkindes ein
  Leben lang ertragen mussten. \n\nDie Kommission für soziale Anliegen
  vertreten durch Gemeinderätin Lydia Baumgartner und die reformierte
  Kirchgemeinde Jegenstorf laden aus diesem Anlass zu einem Filmnachmittag
  mit einem Referat von Frau Biondi ein. \n\nIm Film "Lina" wird ein Teil
  der Geschichte von Frau Biondi erzählt. \nDie rebellische Lina (Rabea
  Egg\, Schweizer Fernsehfilmpreis 2016) wird Opfer fürsorgerischer
  Zwangsmassnahmen und begegnet rund 40 Jahre später ihrem Sohn\, den sie
  im Gefängnis geboren und zur Adoption hat freigeben müssen. Ein
  berührendes Drama über ein dunkles Kapitel der Schweizer Geschichte\,
  basierend auf realen Schicksalen.\nAlle Generationen sind herzlich
  willkommen!\n\nKontakt: franziska.vogt\n\nWeitere Infos:
  https://www.kgju.ch/veranstaltung/41195
SUMMARY:Seniorennachmittag - Film "Lina" mit Gästen
PRIORITY:5
X-MICROSOFT-CDO-IMPORTANCE:1
CLASS:PUBLIC
END:VEVENT
END:VCALENDAR
