BEGIN:VCALENDAR
PRODID:-//kirchenweb.ch gmbh//veranstaltungsausgabe v2.0//DE
VERSION:2.0
METHOD:PUBLISH
BEGIN:VEVENT
DTSTART;VALUE=DATE:20260619
DTEND;VALUE=DATE:20260620
LOCATION:Lötschberg\, \,
TRANSP:OPAQUE
SEQUENCE:0
UID:43852-veranstaltung@kgju.ch
DTSTAMP:20260316T091352Z
DESCRIPTION:Wanderleitung:\nHanspeter Klopfenstein  Tel. 079 455 72 37
 \nKathrin Bolliger               Tel. 079 633 28 11\n\nAnmeldeschluss: \n
 \nBesammlung:\n\nRückkehr: \n\nKosten: \n\nMarschdauer: \n\nAnforderung:
 \n*** (erhöhte Anforderung)\n\nMitnehmen:\nGute Wanderschuhe\,
  Wanderstöcke\, Wetterschutz\, Sonnenschutz\n\nVerpflegung: \n
 \nVersicherung: \nIst Sache der Teilnehmenden\n\nDurchführung:\nAm
  Donnerstag 18. Mai 2026 gibt ab 14.00 Uhr die Telefonnummer 031 761 39 25
  oder die Wanderleitung Auskunft.\n\nAnmeldung an: \nHanspeter
  Klopfenstein\nHofweg 3\n3303 Jegenstorf \nTel.:  079 455 72 37 \nE-Mail.:
  hp.klopfemstein@bluewin.ch\n\nUnsere nächsten Veranstaltungen:\n\n\n
 \nKontakt: heinz.deriaz@kirche-jegenstorf.ch\n\nWeitere Infos:
  https://www.kgju.ch/veranstaltung/43852
SUMMARY:Wandergruppe: Lötschberg Südrampe
PRIORITY:5
X-MICROSOFT-CDO-IMPORTANCE:1
CLASS:PUBLIC
END:VEVENT
END:VCALENDAR
