BEGIN:VCALENDAR
PRODID:-//kirchenweb.ch gmbh//veranstaltungsausgabe v2.0//DE
VERSION:2.0
METHOD:PUBLISH
BEGIN:VEVENT
DTSTART;VALUE=DATE:20260818
DTEND;VALUE=DATE:20260819
LOCATION:Geltenhütte\, \,
TRANSP:OPAQUE
SEQUENCE:0
UID:43855-veranstaltung@kgju.ch
DTSTAMP:20260316T091502Z
DESCRIPTION:2-tages Wanderung\n\nWanderleitung:\nHanspeter Klopfenstein
  Tel. 031 761 27 17 / 079 455 72 37\nBeat Trüssel                  Tel.
  031 761 25 84 / 079 435 27 59\n\nAnmeldeschluss: \n\nBesammlung:\n
 \nRückkehr:\n\nKosten:\n\nMarschdauer:\nDienstag ca. \nMittwoch ca. \n
 \nAnforderung:\n***** (alpin)\n\nMitnehmen:	\nGute Wanderschuhe\,
  Wanderstöcke\, Wetterschutz\, Sonnenschutz \n\nVerpflegung:\n
 \nVersicherung:\nIst Sache der Teilnehmenden.\n\nDurchführung:\nAm
  Sonntag\, 16. August gibt ab 14.00 Uhr die Telefonnummer 031 761 39 25 
 \noder die Wanderleitung Auskunft.\n\nAnmeldung an:\nHanspeter
  Klopfenstein\nHofweg 3\n3303 Jegenstorf\nTel.: 079 455 72 37 \n E.Mail.:
  hp.klopfenstein@bluewin.ch\n\nDetailinformation:\nBitte beachte die
  Detailinformation zur Alpinwanderung im Flyer unter Dokumente\n\nUnsere
  nächsten Veranstaltungen:\n\n\nKontakt:  \n\nWeitere Infos:
  https://www.kgju.ch/veranstaltung/43855
SUMMARY:Wandergruppe Geltenhütte
PRIORITY:5
X-MICROSOFT-CDO-IMPORTANCE:1
CLASS:PUBLIC
END:VEVENT
END:VCALENDAR
