BEGIN:VCALENDAR
PRODID:-//kirchenweb.ch gmbh//veranstaltungsausgabe v2.0//DE
VERSION:2.0
METHOD:PUBLISH
BEGIN:VEVENT
DTSTART;VALUE=DATE:20260506
DTEND;VALUE=DATE:20260507
LOCATION:Affoltern\, \,
TRANSP:OPAQUE
SEQUENCE:0
UID:43857-veranstaltung@kgju.ch
DTSTAMP:20260411T145606Z
DESCRIPTION:Burgdorf – Lueg – Schaukäserei – Affoltern\n\nVom
  Eingangstor ins Emmental\, über «d’ Lueg» zur Schaukäserei in
  Affoltern.\n\nStart der Langwanderung ist beim Bahnhof Burgdorf. Nach dem
  Startkaffee verlassen wir Burg-\ndorf Richtung Summerhus. Wir wandern
  durch einen von Sandsteinen gesäumten Hohlweg vor-\nbei am ältesten
  «Nailstudio» der Schweiz und gewinnen stetig immer mehr an Höhe. Ein
  letzter\nsteiler Aufstieg und wir haben den höchsten Punkt beim
  Lueg-Denkmal erreicht.\nStart der Kurzwanderung ist bei der
  Bushaltestelle Lueg. Ein kurzer aber steiler Weg führt direkt\nhinauf
  zum Lueg-Denkmal. Oben angelangt bleibt genügend Zeit\, die herrliche
  Aussicht über die\nEmmentaler Hügel bis hin zu den Berner Alpen zu
  geniessen. Der Abstieg ist derselbe wie bei\nder Langwanderung. Im
  Restaurant Schaukäserei beenden wir gemeinsam unseren Wandertag.\n
 \nLeitung:\nLangwanderung: Beat Trüssel / Kathrin Bolliger
 \nKurzwanderung: Silvia Brunner / Myriam Gasser\n\nAnmeldeschluss: 
 \nMontag\, 04. Mai 2026\n\nBesammlung:\nLangwanderung 08.00 Uhr Bahnhof
  Jegenstorf\nKurzwanderung 13.15 Uhr Bahnhof Jegenstorf\n\nRückkehr: 
 \n18.43 Uhr Bahnhof Jegenstorf\n\nKosten: \nLangwanderung Halbtax Fr.
  30.00 / GA Fr. 15.00\nKurzwanderung Halbtax Fr. 20.00 / GA Fr. 5.00\n
 \nWanderung: \nLangwanderung *** 4.5 Std. / 480m Aufstieg\, 212m Abstieg
  (auf 11 km)\nKurzwanderung ** 1.15 Std. / 68m Aufstieg\, 104m Abstieg
  (auf 3.6 km\n\nMitnehmen:\nWanderschuhe\, Wanderstöcke\, Picknick\,
  Sonnen- und Wetterschutz\n\nVersicherung: \nIst Sache der Teilnehmenden\n
 \nDurchführung:\nAm Dienstag\, 05. Mai gibt ab 14.00 Uhr die
  Telefonnummer 031 761 39 25\nAuskunft\, ob die Wanderung stattfindet.\n
 \nAnmeldung an: \nBeat Trüssel\nSägetstrasse 9\n3303Jegenstorf\nTel.:
  079 435 27 59\nE-Mail.: beat.truessel@gmx.ch\n         \nUnsere nächsten
  Veranstaltungen:\n\n\nKontakt: heinz.deriaz@kirche-jegenstorf.ch\n
 \nWeitere Infos: https://www.kgju.ch/veranstaltung/43857
SUMMARY:Wandergruppe: Affoltern Schaukäserei
PRIORITY:5
X-MICROSOFT-CDO-IMPORTANCE:1
CLASS:PUBLIC
END:VEVENT
END:VCALENDAR
