BEGIN:VCALENDAR
PRODID:-//kirchenweb.ch gmbh//veranstaltungsausgabe v2.0//DE
VERSION:2.0
METHOD:PUBLISH
BEGIN:VEVENT
DTSTART:20260530T073000Z
DTEND:20260530T093000Z
LOCATION:Kirche Jegenstorf\, Solothurnstrasse 1\, 3303 Jegenstorf
TRANSP:OPAQUE
SEQUENCE:0
UID:50449-veranstaltung@kgju.ch
DTSTAMP:20260421T101056Z
DESCRIPTION:Kontakt: Micael Hunziker\, 077 425 97 54\n\nWeitere Infos:
  https://www.kgju.ch/veranstaltung/50449
SUMMARY:Konfirmation der Klasse von Micael Hunziker
PRIORITY:5
X-MICROSOFT-CDO-IMPORTANCE:1
CLASS:PUBLIC
END:VEVENT
END:VCALENDAR
