BEGIN:VCALENDAR
PRODID:-//kirchenweb.ch gmbh//veranstaltungsausgabe v2.0//DE
VERSION:2.0
METHOD:PUBLISH
BEGIN:VEVENT
DTSTART:20260607T073000Z
DTEND:20260607T090000Z
LOCATION:Kirche Jegenstorf\, Solothurnstrasse 1\, 3303 Jegenstorf
TRANSP:OPAQUE
SEQUENCE:0
UID:50452-veranstaltung@kgju.ch
DTSTAMP:20260303T075934Z
DESCRIPTION:Kontakt: David Zurbuchen\n\nWeitere Infos:
  https://www.kgju.ch/veranstaltung/50452
SUMMARY:Konfirmation Klasse D. Zurbuchen
PRIORITY:5
X-MICROSOFT-CDO-IMPORTANCE:1
CLASS:PUBLIC
END:VEVENT
END:VCALENDAR
