BEGIN:VCALENDAR
PRODID:-//kirchenweb.ch gmbh//veranstaltungsausgabe v2.0//DE
VERSION:2.0
METHOD:PUBLISH
BEGIN:VEVENT
DTSTART:20260826T070000Z
DTEND:20260826T100000Z
LOCATION:Kirchgemeindehaus Jegenstorf\, Iffwilstrasse 6\, 3303 Jegenstorf
TRANSP:OPAQUE
SEQUENCE:0
UID:52727-veranstaltung@kgju.ch
DTSTAMP:20260312T090314Z
DESCRIPTION:Kontakt: daniela.bernhard@kirche-jegenstorf.ch\n\nWeitere
  Infos: https://www.kgju.ch/veranstaltung/52727
SUMMARY:Frauen treffen Frauen
PRIORITY:5
X-MICROSOFT-CDO-IMPORTANCE:1
CLASS:PUBLIC
END:VEVENT
END:VCALENDAR
