BEGIN:VCALENDAR
PRODID:-//kirchenweb.ch gmbh//veranstaltungsausgabe v2.0//DE
VERSION:2.0
METHOD:PUBLISH
BEGIN:VEVENT
DTSTART:20261125T080000Z
DTEND:20261125T110000Z
LOCATION:Kirchgemeindehaus Jegenstorf\, Iffwilstrasse 6\, 3303 Jegenstorf
TRANSP:OPAQUE
SEQUENCE:0
UID:52728-veranstaltung@kgju.ch
DTSTAMP:20260312T090404Z
DESCRIPTION:Kontakt: daniela.bernhard@kirche-jegenstorf.ch\n\nWeitere
  Infos: https://www.kgju.ch/veranstaltung/52728
SUMMARY:Frauen treffen Frauen
PRIORITY:5
X-MICROSOFT-CDO-IMPORTANCE:1
CLASS:PUBLIC
END:VEVENT
END:VCALENDAR
