BEGIN:VCALENDAR
PRODID:-//kirchenweb.ch gmbh//veranstaltungsausgabe v2.0//DE
VERSION:2.0
METHOD:PUBLISH
BEGIN:VEVENT
DTSTART:20260428T170000Z
DTEND:20260428T183000Z
LOCATION:Kirche Urtenen\, Friedhofweg 9\, 3322 Urtenen-Schönbühl
TRANSP:OPAQUE
SEQUENCE:0
UID:53255-veranstaltung@kgju.ch
DTSTAMP:20250612T080204Z
DESCRIPTION:Kontakt: ingrid.bacchetta@kirche-urtenen.ch\n\nWeitere Infos:
  https://www.kgju.ch/veranstaltung/53255
SUMMARY:Projektchor-Probe Urtenen
PRIORITY:5
X-MICROSOFT-CDO-IMPORTANCE:1
CLASS:PUBLIC
END:VEVENT
END:VCALENDAR
