BEGIN:VCALENDAR
PRODID:-//kirchenweb.ch gmbh//veranstaltungsausgabe v2.0//DE
VERSION:2.0
METHOD:PUBLISH
BEGIN:VEVENT
DTSTART:20260426T073000Z
DTEND:20260426T083000Z
LOCATION:Kirche\, Iffwilstrasse 1\, 3303 Jegenstorf
TRANSP:OPAQUE
SEQUENCE:0
UID:54226-veranstaltung@kgju.ch
DTSTAMP:20260417T072114Z
DESCRIPTION:Thema\n"Wünsche in der Warteschleife!"\n\nMitwirkende
 \nPredigt: Pfr. Daniel Mauerhofer\nBand: inCLUEsive\nOrgel: Franziska
  Braun\nModeration: Julia Suter\nMitwirkung der KUW-Wahlfachgruppe "Taufe"
  mit Simone Bast\n\nKollekte\nGemeinschaft der Versöhnung\n\nLivestream
 \nEin paar Stunden vor dem Gottesdienst wird hier der entsprechende
  Youtube-Link aufgeschaltet.\n\nKirchenkaffee\nKirchenkaffee nach dem
  Gottesdienst.\n\n\n\n\nKontakt: daniel.mauerhofer\n\nWeitere Infos:
  https://www.kgju.ch/veranstaltung/54226
SUMMARY:Gottesdienst mit Band und Orgel (mit Livestream)
PRIORITY:5
X-MICROSOFT-CDO-IMPORTANCE:1
CLASS:PUBLIC
END:VEVENT
END:VCALENDAR
