BEGIN:VCALENDAR
PRODID:-//kirchenweb.ch gmbh//veranstaltungsausgabe v2.0//DE
VERSION:2.0
METHOD:PUBLISH
BEGIN:VEVENT
DTSTART:20260816T073000Z
DTEND:20260816T083000Z
LOCATION:Kirche\, Iffwilstrasse 1\, 3303 Jegenstorf
TRANSP:OPAQUE
SEQUENCE:0
UID:54274-veranstaltung@kgju.ch
DTSTAMP:20250910T144531Z
DESCRIPTION:Segnungsgottesdienst mit LIVESTREAM mit Möglichkeit der
  Segnung und Salbung und Feier des Abendmahls\n\nThema\ntbd\n\nMitwirkende
 \nPredigt: Pfr. Daniel Mauerhofer\nOrgel: tbd\nMusik: Taizé-Singgruppe
  mit Nadine Maggi\nTeam Segnung und Salbung\n\nKollekte\ntbd\nEinzahlung
  möglich unter http://www.kirche-jegenstorf.ch/jegenstorf-kollekte  \n
 \nLivestream\nVor dem Gottesdienst wird hier der entsprechend Youtube-Link
  aufgeschaltet.\n\nKirchenkaffee\nNach dem Gottesdienst herzliche
  Einladung zum Kirchenkaffee.\n\n\n\nKontakt: daniel.mauerhofer\n\nWeitere
  Infos: https://www.kgju.ch/veranstaltung/54274
SUMMARY:Segnungs-Gottesdienst mit Orgel und Taizé-Chor (mit Livestream)
PRIORITY:5
X-MICROSOFT-CDO-IMPORTANCE:1
CLASS:PUBLIC
END:VEVENT
END:VCALENDAR
