BEGIN:VCALENDAR
PRODID:-//kirchenweb.ch gmbh//veranstaltungsausgabe v2.0//DE
VERSION:2.0
METHOD:PUBLISH
BEGIN:VEVENT
DTSTART:20260428T120000Z
DTEND:20260428T143000Z
LOCATION:Rotonda\, Jegenstorf\, Solothurnstrasse 76\, 3303 Jegenstorf
TRANSP:OPAQUE
SEQUENCE:0
UID:54432-veranstaltung@kgju.ch
DTSTAMP:20250930T084556Z
DESCRIPTION:Ort und Zeit:\nStiftung Rotonda\, Solothurnstrasse 76\, 3303
  Jegenstorf\n\nTreffpunkt:\n14.00 Uhr bis 16.30 Uhr spielen und
  Gemeinschaft geniessen\nFalls ein Abholen beim Kirchgemeindehaus
  gewünscht wird\, kann der Rotonda-Bus bestellt werden unter 031 763 70
  00\n\nKosten:\nKaffee/Tee/Wasser und ein Stück Kuchen für CHF 2.—\n
 \nKommen Sie\, wir freuen uns auf Sie\n\nKontakt: Myriam Gasser\, 031 761
  24 16\n\nWeitere Infos: https://www.kgju.ch/veranstaltung/54432
SUMMARY:Spiel- und Nachmittagskafi 60+ Spezial
PRIORITY:5
X-MICROSOFT-CDO-IMPORTANCE:1
CLASS:PUBLIC
END:VEVENT
END:VCALENDAR
