BEGIN:VCALENDAR
PRODID:-//kirchenweb.ch gmbh//veranstaltungsausgabe v2.0//DE
VERSION:2.0
METHOD:PUBLISH
BEGIN:VEVENT
DTSTART:20260602T120000Z
DTEND:20260602T150000Z
LOCATION:Kirchgemeindehaus\, Iffwilstrasse 6\, 3303 Jegenstorf
TRANSP:OPAQUE
SEQUENCE:0
UID:54441-veranstaltung@kgju.ch
DTSTAMP:20251125T074050Z
DESCRIPTION:Ädu der Troubädur\, Berner Chanconnier und Liedermacher\n
 \nKontakt: Myriam Gasser\, 031 761 24 16\n\nWeitere Infos:
  https://www.kgju.ch/veranstaltung/54441
SUMMARY:Seniorennachmittag - Ädu der Troubädur
PRIORITY:5
X-MICROSOFT-CDO-IMPORTANCE:1
CLASS:PUBLIC
END:VEVENT
END:VCALENDAR
