BEGIN:VCALENDAR
PRODID:-//kirchenweb.ch gmbh//veranstaltungsausgabe v2.0//DE
VERSION:2.0
METHOD:PUBLISH
BEGIN:VEVENT
DTSTART:20260512T120000Z
DTEND:20260512T150000Z
LOCATION:Kirchgemeindehaus\, Iffwilstrasse 6\, 3303 Jegenstorf
TRANSP:OPAQUE
SEQUENCE:0
UID:54672-veranstaltung@kgju.ch
DTSTAMP:20260303T102956Z
DESCRIPTION:Biodiversität im Garten oder wie Gärten zum Lebensraum von
  Schmetterlingen werden\nWilli Ingold erzählt und zeigt Bilder.\n
 \nKontakt: Myriam Gasser\, 031 761 24 16\n\nWeitere Infos:
  https://www.kgju.ch/veranstaltung/54672
SUMMARY:Seniorennachmittag - Biodiversität im Garten
PRIORITY:5
X-MICROSOFT-CDO-IMPORTANCE:1
CLASS:PUBLIC
END:VEVENT
END:VCALENDAR
