BEGIN:VCALENDAR
PRODID:-//kirchenweb.ch gmbh//veranstaltungsausgabe v2.0//DE
VERSION:2.0
METHOD:PUBLISH
BEGIN:VEVENT
DTSTART:20260611T180000Z
DTEND:20260611T190000Z
LOCATION:Jegenstorf\, \,
TRANSP:OPAQUE
SEQUENCE:0
UID:54719-veranstaltung@kgju.ch
DTSTAMP:20251009T131712Z
DESCRIPTION:Die Gebetsgruppe Gebet für die Schweiz ist offen für alle\,
  denen es ein Anliegen ist\, für unser Land und die Region Bern zu beten.
  Aufgrund der geographischen Lage sowie der Berufung der Schweiz wird auch
  Europa immer wieder ein Gebetsthema sein. \nUnter der Leitung von Alice
  Bienz trifft sich die Gruppe ca. 14-täglich. \nInteressierte sind
  herzlich eingeladen.\n\nKontaktperson: \nAlice Bienz\, 031 535 48 36 \n
 \nKontakt: sandra.schnell@kirche-jegenstorf.ch\n\nWeitere Infos:
  https://www.kgju.ch/veranstaltung/54719
SUMMARY:Gebet für die Schweiz
PRIORITY:5
X-MICROSOFT-CDO-IMPORTANCE:1
CLASS:PUBLIC
END:VEVENT
END:VCALENDAR
