BEGIN:VCALENDAR
PRODID:-//kirchenweb.ch gmbh//veranstaltungsausgabe v2.0//DE
VERSION:2.0
METHOD:PUBLISH
BEGIN:VEVENT
DTSTART:20260510T083000Z
DTEND:20260510T093000Z
LOCATION:Kirche Jegenstorf\, \,
TRANSP:OPAQUE
SEQUENCE:0
UID:54858-veranstaltung@kgju.ch
DTSTAMP:20260319T101332Z
DESCRIPTION:Der dynamische Gottesdienst für alle Generationen.\nMit
  Band\, kreativen Elementen und interaktiven Teilen. \n\nThema heute:
  Vitamin G\n\nKinder\nDie Kinder sind im Gottesdienst dabei. \nKeine
  Kinderhüte - für die Kleinsten ist ein Spielteppich eingerichtet in der
  Kirche.\n\nKollekte\nhttp://www.kirche-jegenstorf.ch/jegenstorf-kollekte
 \n\n\nMittagessen\nAnschliessend an den Gottesdienst gibt es Pizza im
  Kirchgemeindehaus.\nFür Kinder stehen SPIELGERÄTE bereit! \n\nHerzliche
  Einladung\nDas Vitamin C - Team freut sich auf euch alle! \n\nKontakt:
  Tiana Vöhringer\n\nWeitere Infos:
  https://www.kgju.ch/veranstaltung/54858
SUMMARY:Vitamin C Gottesdienst
PRIORITY:5
X-MICROSOFT-CDO-IMPORTANCE:1
CLASS:PUBLIC
END:VEVENT
END:VCALENDAR
