BEGIN:VCALENDAR
PRODID:-//kirchenweb.ch gmbh//veranstaltungsausgabe v2.0//DE
VERSION:2.0
METHOD:PUBLISH
BEGIN:VEVENT
DTSTART:20260528T051500Z
DTEND:20260528T054500Z
LOCATION:Kirche\, Solothurnstrasse 1\, 3303 Jegenstorf
TRANSP:OPAQUE
SEQUENCE:0
UID:54984-veranstaltung@kgju.ch
DTSTAMP:20251031T141252Z
DESCRIPTION:Frühgebet im Chor der Kirche\n\nWir suchen die Gegenwart
  Gottes im Gebet und bringen Anliegen des Gemeindelebens und persönliche
  Anliegen vor Gott.\n\nHerzlich willkommen!\n\nKontakt: daniel.mauerhofer
 \n\nWeitere Infos: https://www.kgju.ch/veranstaltung/54984
SUMMARY:Frühgebet
PRIORITY:5
X-MICROSOFT-CDO-IMPORTANCE:1
CLASS:PUBLIC
END:VEVENT
END:VCALENDAR
