BEGIN:VCALENDAR
PRODID:-//kirchenweb.ch gmbh//veranstaltungsausgabe v2.0//DE
VERSION:2.0
METHOD:PUBLISH
BEGIN:VEVENT
DTSTART:20260512T081500Z
DTEND:20260512T091500Z
LOCATION:Im grossen Saal des Pflegezentrums Rotonda.\, Solothurnstrasse
  76\, 3303 Jegenstorf
TRANSP:OPAQUE
SEQUENCE:0
UID:55231-veranstaltung@kgju.ch
DTSTAMP:20251118T133810Z
DESCRIPTION:Die Andacht wird gestaltet von Udo Schaufelberger
  (katholischer Theologe) und Rosemarie Studer am Klavier. \nBewohnende der
  Rotonda\, Angehörige und Aussenstehende sind herzlich willkommen.\n
 \nKontakt: EL\n\nWeitere Infos: https://www.kgju.ch/veranstaltung/55231
SUMMARY:Andacht in der Rotonda
PRIORITY:5
X-MICROSOFT-CDO-IMPORTANCE:1
CLASS:PUBLIC
END:VEVENT
END:VCALENDAR
