BEGIN:VCALENDAR
PRODID:-//kirchenweb.ch gmbh//veranstaltungsausgabe v2.0//DE
VERSION:2.0
METHOD:PUBLISH
BEGIN:VEVENT
DTSTART:20260526T081500Z
DTEND:20260526T091500Z
LOCATION:Im grossen Saal des Pflegezentrums Rotonda.\, Solothurnstrasse
  76\, 3303 Jegenstorf
TRANSP:OPAQUE
SEQUENCE:0
UID:55232-veranstaltung@kgju.ch
DTSTAMP:20251118T133914Z
DESCRIPTION:Die Andacht wird gestaltet von Pfr. Dani Sutter und Kirsti
  Lätsch\, Klavier.\nBewohnende der Rotonda\, Angehörige und
  Aussenstehende sind herzlich willkommen.\n\nKontakt: EL\n\nWeitere Infos:
  https://www.kgju.ch/veranstaltung/55232
SUMMARY:Andacht in der Rotonda mit Abendmahl
PRIORITY:5
X-MICROSOFT-CDO-IMPORTANCE:1
CLASS:PUBLIC
END:VEVENT
END:VCALENDAR
