BEGIN:VCALENDAR
PRODID:-//kirchenweb.ch gmbh//veranstaltungsausgabe v2.0//DE
VERSION:2.0
METHOD:PUBLISH
BEGIN:VEVENT
DTSTART:20260509T070000Z
DTEND:20260509T100000Z
LOCATION:Kirchgemeindehaus\, Iffwilstrasse 6\, 3303 Jegenstorf
TRANSP:OPAQUE
SEQUENCE:0
UID:55286-veranstaltung@kgju.ch
DTSTAMP:20251121T061330Z
DESCRIPTION:G wie geistlich\, gehen!\, geschenkt\, Gemeinschaft\nWir
  beschenken Menschen in Jegenstorf und lassen uns durch diese Begegnungen
  beschenken. \n\n\n\nKontakt: Pfarrer Kurt Bienz\n\nWeitere Infos:
  https://www.kgju.ch/veranstaltung/55286
SUMMARY:G Team
PRIORITY:5
X-MICROSOFT-CDO-IMPORTANCE:1
CLASS:PUBLIC
END:VEVENT
END:VCALENDAR
