BEGIN:VCALENDAR
PRODID:-//kirchenweb.ch gmbh//veranstaltungsausgabe v2.0//DE
VERSION:2.0
METHOD:PUBLISH
BEGIN:VEVENT
DTSTART:20260421T171500Z
DTEND:20260421T174500Z
LOCATION:Raum der Stille\, Iffwilstrasse 2\, 3303 Jegenstorf
TRANSP:OPAQUE
SEQUENCE:0
UID:55306-veranstaltung@kgju.ch
DTSTAMP:20251121T062934Z
DESCRIPTION:am 1. Dienstag im Monat mit Abendmahl\n\nKontakt: kurt.bienz\n
 \nWeitere Infos: https://www.kgju.ch/veranstaltung/55306
SUMMARY:Gebet im Raum der Stille
PRIORITY:5
X-MICROSOFT-CDO-IMPORTANCE:1
CLASS:PUBLIC
END:VEVENT
END:VCALENDAR
