BEGIN:VCALENDAR
PRODID:-//kirchenweb.ch gmbh//veranstaltungsausgabe v2.0//DE
VERSION:2.0
METHOD:PUBLISH
BEGIN:VEVENT
DTSTART:20260621T081500Z
DTEND:20260621T100000Z
LOCATION:Kirchgemeindehaus Jegenstorf\, Iffwilstrasse 6\, 3303 Jegenstorf
TRANSP:OPAQUE
SEQUENCE:0
UID:55636-veranstaltung@kgju.ch
DTSTAMP:20251205T091113Z
DESCRIPTION:Während des Gottesdienstes bieten wir ein liebevoll
  gestaltetes Kinderprogramm an. Die Kinder können entweder bereits 15
  Minuten vor Beginn direkt im Kirchgemeindehaus abgegeben werden oder
  gemeinsam mit ihren Eltern in der Kirche starten. Nach der entsprechenden
  Ankündigung durch die Moderation werden sie von einer Mitarbeiterin des
  Kinderprogramms ins Kirchgemeindehaus begleitet.\n\nDort erwartet die
  Kinder eine abwechslungsreiche und herzliche Betreuung: Sie hören eine
  spannende Geschichte\, singen Lieder\, spielen miteinander und verbringen
  eine gute Zeit in der Gruppe.\n\nDas Programm ist altersgerecht gestaltet
  und richtet sich an Kinder zwischen 2 und 12 Jahren. Eine Anmeldung ist
  nicht erforderlich – einfach vorbeikommen und dabei sein.\n\nUnser
  Kinderprogramm orientiert sich an Kopf\, Herz und Hand:\n\nKopf: Eine
  biblisch nahe Geschichte hören\nHerz: Darüber nachdenken\, was die
  Geschichte mit dem eigenen Leben zu tun hat\nHand: Etwas Passendes
  gestalten\, basteln\, singen\, spielen und entdecken\n\nNach dem
  Gottesdienst bitten wir die Eltern\, ihre Kinder wieder im
  Kirchgemeindehaus abzuholen.\n\nWir freuen uns über alle Kinder\, die
  teilnehmen!\n\n\nMöchtest du an einem der Daten freiwillig mithelfen?
  Super – dann melde dich gerne bei Simone\n\nKontakt: Simone Bast\n
 \nWeitere Infos: https://www.kgju.ch/veranstaltung/55636
SUMMARY:Kinderprogramm
PRIORITY:5
X-MICROSOFT-CDO-IMPORTANCE:1
CLASS:PUBLIC
END:VEVENT
END:VCALENDAR
