BEGIN:VCALENDAR
PRODID:-//kirchenweb.ch gmbh//veranstaltungsausgabe v2.0//DE
VERSION:2.0
METHOD:PUBLISH
BEGIN:VEVENT
DTSTART:20260428T123000Z
DTEND:20260428T133000Z
LOCATION:Seniorenhof Iffwil\, \,
TRANSP:OPAQUE
SEQUENCE:0
UID:55682-veranstaltung@kgju.ch
DTSTAMP:20251204T153626Z
DESCRIPTION:Andacht im Seniorenhof Iffwil ("Heubühne" im 3. Stock\, mit
  Lift)\n\nNeben den Bewohnerinnen und Bewohnern des Seniorenhofs sind auch
  alle spontanen Besucher und auswärtigen Gäste herzlich zu dieser
  Nachmittagsandacht in Iffwil eingeladen.\n\nPredigt: Pfr. Daniel
  Mauerhofer\nMusik: Kirsti Lätsch (Klavier)\, Bethsie Bernauer (Gitarre)
 \n\nKontakt: daniel.mauerhofer\n\nWeitere Infos:
  https://www.kgju.ch/veranstaltung/55682
SUMMARY:Andacht Seniorenhof Iffwil
PRIORITY:5
X-MICROSOFT-CDO-IMPORTANCE:1
CLASS:PUBLIC
END:VEVENT
END:VCALENDAR
