BEGIN:VCALENDAR
PRODID:-//kirchenweb.ch gmbh//veranstaltungsausgabe v2.0//DE
VERSION:2.0
METHOD:PUBLISH
BEGIN:VEVENT
DTSTART:20260425T120000Z
DTEND:20260425T150000Z
LOCATION:Kirchgemeindehaus\, Iffwilstrasse 6\, 3303 Jegenstorf
TRANSP:OPAQUE
SEQUENCE:0
UID:55761-veranstaltung@kgju.ch
DTSTAMP:20251210T112842Z
DESCRIPTION:Das Programm dauert von 14 - 17 Uhr und findet jeden zweiten
  Samstag statt\, ausser in den Ferien. Die Teilnehmenden treffen sich in
  verschiedenen Gruppen. \n\nFröschli Jegenstorf: Kinder ab Kindergarten
  bis 1. Klasse\nBarilla: Kinder ab der 2.-4. Klasse\nZulu: Kinder ab der
  5.-6. Klasse\nNamir: Jugendliche der 7.-8. Klasse\n\nDie Gruppen treffen
  sich bei den Bänkli/Veloständer des Kirchgemeindehauses\, an der
  Iffwilstrasse 6 in Jegenstorf. Für detailliertere Informationen
  konsultieren Sie unser Quartalsprogramm oder die Webseite.\nWaldtaugliche
  Bekleidung ist meistens von Vorteil.\n\nDas aktuelle Programm wird
  jeweils bis Donnerstagabend per Mail oder WhatsApp verschickt.\n
 \nKontakt: Jan Schöni\njan.schoeni@cevi.ch\n078 900 16 17\n\nWeitere
  Infos: https://www.kgju.ch/veranstaltung/55761
SUMMARY:Cevi Jungschar mit Fröschli
PRIORITY:5
X-MICROSOFT-CDO-IMPORTANCE:1
CLASS:PUBLIC
END:VEVENT
END:VCALENDAR
