BEGIN:VCALENDAR
PRODID:-//kirchenweb.ch gmbh//veranstaltungsausgabe v2.0//DE
VERSION:2.0
METHOD:PUBLISH
BEGIN:VEVENT
DTSTART;VALUE=DATE:20260523
DTEND;VALUE=DATE:20260524
LOCATION:Walkringen\, \,
TRANSP:OPAQUE
SEQUENCE:0
UID:55775-veranstaltung@kgju.ch
DTSTAMP:20260326T201830Z
DESCRIPTION:Das Pfingstlager wird dieses Jahr in Walkringen stattfinden.
  Der Cevi Jegenstorf-Schönbühl macht es sich in einem Ferienhaus
  gemütlich. Natürlich steht auch Action und Sport auf dem Programm. Und
  eines fehlt garantiert nicht: die gute Gemeinschaft!\n\nKinder im
  Kindergarten dürfen Tagesbesuche machen\, ab der 1. Klasse darf
  übernachtet werden.\nAnmeldung: Ab April auf http://www.cevijegschoe.ch
 \n\nWir freuen uns auf dich!\n\nKontakt: Jan Schöni\njan.schoeni@cevi.ch
 \n078 900 16 17\n\nWeitere Infos: https://www.kgju.ch/veranstaltung/55775
SUMMARY:Cevi Pfingstlager
PRIORITY:5
X-MICROSOFT-CDO-IMPORTANCE:1
CLASS:PUBLIC
END:VEVENT
END:VCALENDAR
