BEGIN:VCALENDAR
PRODID:-//kirchenweb.ch gmbh//veranstaltungsausgabe v2.0//DE
VERSION:2.0
METHOD:PUBLISH
BEGIN:VEVENT
DTSTART:20260531T073000Z
DTEND:20260531T083000Z
LOCATION:Kirche\, Solothurnstrasse 1\, 3303 Jegenstorf
TRANSP:OPAQUE
SEQUENCE:0
UID:55797-veranstaltung@kgju.ch
DTSTAMP:20251211T171818Z
DESCRIPTION:Konfirmation der Klasse von Jonas Meyer und Kurt Bienz\n
 \nKontakt: kurt.bienz\n\nWeitere Infos:
  https://www.kgju.ch/veranstaltung/55797
SUMMARY:Konfirmation Gottesdienst Klasse Jonas Meyer\, Kurt Bienz
PRIORITY:5
X-MICROSOFT-CDO-IMPORTANCE:1
CLASS:PUBLIC
END:VEVENT
END:VCALENDAR
