BEGIN:VCALENDAR
PRODID:-//kirchenweb.ch gmbh//veranstaltungsausgabe v2.0//DE
VERSION:2.0
METHOD:PUBLISH
BEGIN:VEVENT
DTSTART:20261129T083000Z
DTEND:20261129T093000Z
LOCATION:Kirche\, Solothurnstrasse 1\, 3303 Jegenstorf
TRANSP:OPAQUE
SEQUENCE:0
UID:55804-veranstaltung@kgju.ch
DTSTAMP:20251211T183118Z
DESCRIPTION:Segnungsgottesdienst mit LIVESTREAM mit Möglichkeit der
  Segnung und Salbung und Feier des Abendmahls\n\nThema\ntbd\n\nMitwirkende
 \nPredigt: Pfr. Kurt Bienz\nOrgel: Linda Rickli\nMusik: Taizé-Singgruppe
  mit Nadine Maggi\nTeam Segnung und Salbung\n\nKollekte\nFenster zum
  Sonntag\nEinzahlung möglich unter
  https://www.kirche-jegenstorf.ch/jegenstorf-kollekte\n\nKirchenkaffee
 \nherzliche Einladung zum anschliessenden Zusammensein! \n\nLivestream 
 \nunter dem folgenden Link kann der Gottesdienst per Livestream angeschaut
  werden. \n\n\nKontakt: Pfarrer Kurt Bienz\n\nWeitere Infos:
  https://www.kgju.ch/veranstaltung/55804
SUMMARY:Segnungs-Gottesdienst am 1. Advent mit Orgel und Taizé-Chor (mit
  Livestream)
PRIORITY:5
X-MICROSOFT-CDO-IMPORTANCE:1
CLASS:PUBLIC
END:VEVENT
END:VCALENDAR
