BEGIN:VCALENDAR
PRODID:-//kirchenweb.ch gmbh//veranstaltungsausgabe v2.0//DE
VERSION:2.0
METHOD:PUBLISH
BEGIN:VEVENT
DTSTART:20260514T073000Z
DTEND:20260514T083000Z
LOCATION:Kirche Jegenstorf\, Solothurnstrasse 1\, 3303 Jegenstorf
TRANSP:OPAQUE
SEQUENCE:0
UID:55814-veranstaltung@kgju.ch
DTSTAMP:20260410T092455Z
DESCRIPTION:Text: Joh 17\,20-26\nThema:\n\nMitwirkende\nPredigt von Vikar
  Jonas Meyer\nOrgel: Urs Aeberhard\n\nKirchenkaffee\nHerzliche Einladung
  zum Kirchenkaffee nach dem Gottesdienst.\n\nKinderprogramm\nHier finden
  Sie alle aktuellen Informationen zum Kinderprogramm: »»
  https://www.kirche-jegenstorf.ch/openhouse-jegi#https://www.kirche-jegens
 torf.ch/openhouse-jegi\n\nKEIN Livestream\nHeute können wir leider keinen
  Livestream anbieten.\n\n\nKollekte\nIsrael College of the Bible
 \nEinzahlung möglich unter »
  https://www.kirche-jegenstorf.ch/jegenstorf-kollekte\n\nKontakt: Jonas
  Meyer\, jonas.meyer@kirche-jegenstorf.ch\n\nWeitere Infos:
  https://www.kgju.ch/veranstaltung/55814
SUMMARY:Auffahrts-Gottesdienst mit Abendmahl
PRIORITY:5
X-MICROSOFT-CDO-IMPORTANCE:1
CLASS:PUBLIC
END:VEVENT
END:VCALENDAR
