BEGIN:VCALENDAR
PRODID:-//kirchenweb.ch gmbh//veranstaltungsausgabe v2.0//DE
VERSION:2.0
METHOD:PUBLISH
BEGIN:VEVENT
DTSTART:20261102T183000Z
DTEND:20261102T193000Z
LOCATION:Kirche Jegenstorf\, Solothurnstrasse 1\, 3303 Jegenstorf
TRANSP:OPAQUE
SEQUENCE:0
UID:55841-veranstaltung@kgju.ch
DTSTAMP:20251216T154851Z
DESCRIPTION:«Gott\, mein Herz ist bereit\, ich will dir singen und
  spielen. Wach auf\, meine Seele!» \nPsalm 108\,2\n\nMit einfachen
  Schritten und Bewegungen üben und verinnerlichen wir ausgewählte Lieder
  aus dem spirituellen Schatz des Kirchengesangbuches.  \n\nDiese
  Interessengruppe richtet sich an alle. Besondere Voraussetzungen sind
  nicht nötig\, allein das Mitmachen und die Freude am Singen zählen.  
 \nDie Abende sind aufeinander abgestimmt. Wir empfehlen deshalb eine
  möglichst regelmässige Teilnahme. \n\nGerne geben wir weitere Auskunft:
 \nSarah Aeberhard / Gesangslehrerin / 079 398 22 44
  sarahaeberhard@bluewin.ch\nLaura Trüssel / 079 281 43 91  \n\nKontakt:
  tiana.voehringer@kirche-jegenstorf.ch\n\nWeitere Infos:
  https://www.kgju.ch/veranstaltung/55841
SUMMARY:singen bewegt
PRIORITY:5
X-MICROSOFT-CDO-IMPORTANCE:1
CLASS:PUBLIC
END:VEVENT
END:VCALENDAR
