BEGIN:VCALENDAR
PRODID:-//kirchenweb.ch gmbh//veranstaltungsausgabe v2.0//DE
VERSION:2.0
METHOD:PUBLISH
BEGIN:VEVENT
DTSTART:20260529T100000Z
DTEND:20260529T113000Z
LOCATION:Saal der Kirche Urtenen\, Friedhofweg 9\, 3322
  Urtenen-Schönbühl
TRANSP:OPAQUE
SEQUENCE:0
UID:55961-veranstaltung@kgju.ch
DTSTAMP:20260203T150450Z
DESCRIPTION:Herzlich willkommen sind alle Generationen\, egal ob als
  Familie\, alleine\, gemeinsam\, jung oder alt...\n\n- Zäme es eifachs u
  guets Mittagässe u Dessärli gniesse\n- d Chind chöi spile\, tolli
  Gschichte us dr Bibel lose u zeichne\n- di Erwachsene dörfe in Rueh es
  Kafi gniesse\n- zämä brichte\, cooli Lieder singe\n- mau nid müesse
  choche und abwäsche\n- "Mä geit angers use\, aus mä ine isch" \n\nDie
  Gschichteria findet jeden* Freitag von 12.00 ‒ 13.30 Uhr im Saal der
  Kirche Urtenen\, Friedhofweg 9\, 3322 Urtenen-Schönbühl statt (*ausser
  vor und während den Schulferien).\n\nKosten: 7.– für Erwachsene\, 3.-
  pro Kind ab 2 Jahren\n\nAnmeldung jeweils bis am Mittwochabend an: Silvia
  Blatter +4131 859 79 61 (per Whatsapp funktioniert!! oder Mail:
  silvia.blatter@kirche-urtenen.ch)\n\nKontakt: Silvia Blatter\n\nWeitere
  Infos: https://www.kgju.ch/veranstaltung/55961
SUMMARY:Gschichteria - Mittagstisch für alle Generationen
PRIORITY:5
X-MICROSOFT-CDO-IMPORTANCE:1
CLASS:PUBLIC
END:VEVENT
END:VCALENDAR
