BEGIN:VCALENDAR
PRODID:-//kirchenweb.ch gmbh//veranstaltungsausgabe v2.0//DE
VERSION:2.0
METHOD:PUBLISH
BEGIN:VEVENT
DTSTART:20260611T160000Z
DTEND:20260611T180000Z
LOCATION:Kirchgemeindehaus\, Iffwilstrasse 6\, 3303 Jegenstorf
TRANSP:OPAQUE
SEQUENCE:0
UID:56042-veranstaltung@kgju.ch
DTSTAMP:20251229T104103Z
DESCRIPTION:Du bist herzlich Willkommen im CHURCH-in.\nZusammen sein\,
  Spiele machen\, Z'nacht essen\, chillen und manchmal einen Input hören.
 \n\nWir treffen uns jeweils 18.00 bis 20.00 Uhr (open end bis 20.30 Uhr!).
 \nTüröffnung ab 17.30 Uhr.\nWir freuen uns auf dich!\n\nEin Angebot für
  die 5. bis 7. Klasse\n\nKontakt: david.zurbuchen\n\nWeitere Infos:
  https://www.kgju.ch/veranstaltung/56042
SUMMARY:CHURCH-in
PRIORITY:5
X-MICROSOFT-CDO-IMPORTANCE:1
CLASS:PUBLIC
END:VEVENT
END:VCALENDAR
