BEGIN:VCALENDAR
PRODID:-//kirchenweb.ch gmbh//veranstaltungsausgabe v2.0//DE
VERSION:2.0
METHOD:PUBLISH
BEGIN:VEVENT
DTSTART:20260426T130000Z
DTEND:20260426T150000Z
LOCATION:Kirchgemeindehaus Jegenstorf\, Iffwilstrasse 6\, 3303 Jegenstorf
TRANSP:OPAQUE
SEQUENCE:0
UID:56098-veranstaltung@kgju.ch
DTSTAMP:20260325T103955Z
DESCRIPTION:Wir feiern den Launch des Buches ''Ausnahmsweise'' mit einem
  tollen Familien-Event. \nNebst der Buchlesung wird es verschiedene Posten
  für Kinder ab 3 Jahren geben. Auch ältere Kinder sind herzlich
  willkommen (bis 10 Jahre in Begleitung eines Erwachsenen). \n
 \nhttps://www.kirche-jegenstorf.ch/bericht/1022\n\n\nKontakt: Simone Bast
 \n\nWeitere Infos: https://www.kgju.ch/veranstaltung/56098
SUMMARY:Kinderbuch Veranstaltung
PRIORITY:5
X-MICROSOFT-CDO-IMPORTANCE:1
CLASS:PUBLIC
END:VEVENT
END:VCALENDAR
