BEGIN:VCALENDAR
PRODID:-//kirchenweb.ch gmbh//veranstaltungsausgabe v2.0//DE
VERSION:2.0
METHOD:PUBLISH
BEGIN:VEVENT
DTSTART:20260426T120000Z
DTEND:20260426T160000Z
LOCATION:Kirchgemeindehaus Jegenstorf\, \,
TRANSP:OPAQUE
SEQUENCE:0
UID:56179-veranstaltung@kgju.ch
DTSTAMP:20260414T120207Z
DESCRIPTION:26. April 2026\n✏️ KreaTief\n🕑 14.00-18.00 Uhr\n\nWir
  malen zusammen und bedrucken selbst mitgebrachte T-shirts!😃\n\nKosten:
  20.00 CHF\nMitbringen: helles T-shirt (Der Druck ist Schwarz)👕\n
 \nAnmeldung: Direkt über die Gemeindeapp\, oder über Tiana
  (tiana.voehringer@kirche-jegenstorf.ch)\n\nKontakt:
  tiana.voehringer@kirche-jegenstorf.ch\n\nWeitere Infos:
  https://www.kgju.ch/veranstaltung/56179
SUMMARY:STEP UP
PRIORITY:5
X-MICROSOFT-CDO-IMPORTANCE:1
CLASS:PUBLIC
END:VEVENT
END:VCALENDAR
