BEGIN:VCALENDAR
PRODID:-//kirchenweb.ch gmbh//veranstaltungsausgabe v2.0//DE
VERSION:2.0
METHOD:PUBLISH
BEGIN:VEVENT
DTSTART:20260801T080000Z
DTEND:20260801T100000Z
LOCATION:Kirchgemeindehaus Jegenstorf\, \,
TRANSP:OPAQUE
SEQUENCE:0
UID:56182-veranstaltung@kgju.ch
DTSTAMP:20260226T131432Z
DESCRIPTION:1. August 2026\n🎉 1. August-Brunch\n🕑 10.00-12.00 Uhr\n
 \nWeitere Infos folgen...\n\nKontakt:
  tiana.voehringer@kirche-jegenstorf.ch\n\nWeitere Infos:
  https://www.kgju.ch/veranstaltung/56182
SUMMARY:STEP UP
PRIORITY:5
X-MICROSOFT-CDO-IMPORTANCE:1
CLASS:PUBLIC
END:VEVENT
END:VCALENDAR
