BEGIN:VCALENDAR
PRODID:-//kirchenweb.ch gmbh//veranstaltungsausgabe v2.0//DE
VERSION:2.0
METHOD:PUBLISH
BEGIN:VEVENT
DTSTART:20260422T070000Z
DTEND:20260422T090000Z
LOCATION:Kirchgemeindehaus Jegenstorf\, Iffwilstrasse 6\, 3303 Jegenstorf
TRANSP:OPAQUE
SEQUENCE:0
UID:56496-veranstaltung@kgju.ch
DTSTAMP:20260129T124837Z
DESCRIPTION:Eine Geschichte hören\, spielen\, singen\, reden und Zeit
  verbringen – alle sind herzlich willkommen!\n\nKontakt: Simone Bast\n
 \nWeitere Infos: https://www.kgju.ch/veranstaltung/56496
SUMMARY:Piccoli
PRIORITY:5
X-MICROSOFT-CDO-IMPORTANCE:1
CLASS:PUBLIC
END:VEVENT
END:VCALENDAR
