BEGIN:VCALENDAR
PRODID:-//kirchenweb.ch gmbh//veranstaltungsausgabe v2.0//DE
VERSION:2.0
METHOD:PUBLISH
BEGIN:VEVENT
DTSTART:20260527T070000Z
DTEND:20260527T090000Z
LOCATION:Kirchgemeindehaus Jegenstorf\, Iffwilstrasse 6\, 3303 Jegenstorf
TRANSP:OPAQUE
SEQUENCE:0
UID:56917-veranstaltung@kgju.ch
DTSTAMP:20260327T110334Z
DESCRIPTION:Lobbyist vom lieben Gott im Bundeshaus\n\nReferent: Beat
  Christen\n\nMusik: Adrian Gehri\, Schwyzerörgeli\n           Marina
  Kaufmann\, Jodel\n\nKontakt: Margret Ledermann\n\nWeitere Infos:
  https://www.kgju.ch/veranstaltung/56917
SUMMARY:Frauen treffen Frauen
PRIORITY:5
X-MICROSOFT-CDO-IMPORTANCE:1
CLASS:PUBLIC
END:VEVENT
END:VCALENDAR
