BEGIN:VCALENDAR
PRODID:-//kirchenweb.ch gmbh//veranstaltungsausgabe v2.0//DE
VERSION:2.0
METHOD:PUBLISH
BEGIN:VEVENT
DTSTART:20260816T071500Z
DTEND:20260816T084500Z
LOCATION:Kirchgemeindehaus Jegenstorf\, Iffwilstrasse 6\, 3303 Jegenstorf
TRANSP:OPAQUE
SEQUENCE:0
UID:57024-veranstaltung@kgju.ch
DTSTAMP:20260311T130032Z
DESCRIPTION:Kinderprogramm am Sonntag\, während des Gottesdienstes
 \nKinder können entweder 15 Minuten vor Beginn des Gottesdienstes direkt
  im Kirchgemeindehaus abgegeben werden – oder sie starten gemeinsam mit
  ihren Eltern in der Kirche.\nNach der Ankündigung durch die Moderation
  werden sie von einer Mitarbeitenden des Kinderprogramms ins
  Kirchgemeindehaus begleitet.\n\nDort werden die Kinder liebevoll betreut:
  Sie hören eine spannende Geschichte\, singen Lieder\, spielen Spiele und
  verbringen eine gute Zeit miteinander.\nDas Programm wird jeweils dem
  Alter der Kinder angepasst und richtet sich an Kinder zwischen 2 und 12
  Jahren.\nEine Anmeldung ist nicht nötig – einfach vorbeikommen.\n
 \nUnser Kinderprogramm orientiert sich an Kopf\, Herz und Hand:\nKopf:
  eine biblisch nahe Geschichte hören\nHerz: darüber nachdenken\, was die
  Geschichte mit dem eigenen Leben zu tun hat\nHand: etwas Passendes
  gestalten\, basteln\, singen\, spielen und entdecken\n\nNach dem
  Gottesdienst werden die Eltern gebeten ihre Kinder wieder in Empfang zu
  nehmen.\n\nWir freuen uns über alle Kinder\, die teilnehmen.\n
 \nMöchtest du an einem der Daten freiwillig mithelfen? Super – dann
  melde dich gerne bei Simone\n\nKontakt: Simone Bast\n\nWeitere Infos:
  https://www.kgju.ch/veranstaltung/57024
SUMMARY:Kinderprogramm
PRIORITY:5
X-MICROSOFT-CDO-IMPORTANCE:1
CLASS:PUBLIC
END:VEVENT
END:VCALENDAR
