BEGIN:VCALENDAR
PRODID:-//kirchenweb.ch gmbh//veranstaltungsausgabe v2.0//DE
VERSION:2.0
METHOD:PUBLISH
BEGIN:VEVENT
DTSTART:20260616T160000Z
DTEND:20260616T171500Z
LOCATION:Kirchgemeindehaus Jegenstorf\, Iffwilstrasse 6\, 3303 Jegenstorf
TRANSP:OPAQUE
SEQUENCE:0
UID:57339-veranstaltung@kgju.ch
DTSTAMP:20260411T140316Z
DESCRIPTION:Kontakt: Pfarrer Kurt Bienz\n\nWeitere Infos:
  https://www.kgju.ch/veranstaltung/57339
SUMMARY:Konflagerteam
PRIORITY:5
X-MICROSOFT-CDO-IMPORTANCE:1
CLASS:PUBLIC
END:VEVENT
END:VCALENDAR
