BEGIN:VCALENDAR
PRODID:-//kirchenweb.ch gmbh//veranstaltungsausgabe v2.0//DE
VERSION:2.0
METHOD:PUBLISH
BEGIN:VEVENT
DTSTART:20260612T170000Z
DTEND:20260612T181500Z
LOCATION:Kirchgemeindehaus Jegenstorf\, \,
TRANSP:OPAQUE
SEQUENCE:0
UID:57340-veranstaltung@kgju.ch
DTSTAMP:20260411T140247Z
DESCRIPTION:Kontakt: Pfarrer Kurt Bienz\n\nWeitere Infos:
  https://www.kgju.ch/veranstaltung/57340
SUMMARY:Konflagerteam
PRIORITY:5
X-MICROSOFT-CDO-IMPORTANCE:1
CLASS:PUBLIC
END:VEVENT
END:VCALENDAR
