BEGIN:VCALENDAR
PRODID:-//kirchenweb.ch gmbh//veranstaltungsausgabe v2.0//DE
VERSION:2.0
METHOD:PUBLISH
BEGIN:VEVENT
DTSTART:20260505T120000Z
DTEND:20260505T150000Z
LOCATION:Kirchgemeindehaus Jegenstorf\, Iffwilstrasse 6\, 3303 Jegenstorf
TRANSP:OPAQUE
SEQUENCE:0
UID:57358-veranstaltung@kgju.ch
DTSTAMP:20260414T070601Z
DESCRIPTION:Kommen Sie auf ein Spiel\, ein Jass\, einen Kaffeeschwatz
  vorbei. Wir freuen uns auf Sie!\n\nKontakt: Myriam Gasser\, 031 761 24 16
 \n\nWeitere Infos: https://www.kgju.ch/veranstaltung/57358
SUMMARY:Spiel- und Jassnachmittag
PRIORITY:5
X-MICROSOFT-CDO-IMPORTANCE:1
CLASS:PUBLIC
END:VEVENT
END:VCALENDAR
