BEGIN:VCALENDAR
PRODID:-//kirchenweb.ch gmbh//veranstaltungsausgabe v2.0//DE
VERSION:2.0
METHOD:PUBLISH
BEGIN:VEVENT
DTSTART:20260606T113000Z
DTEND:20260606T150000Z
LOCATION:Urtenen\, Friedhofweg 10\, 3322 Urtenen
TRANSP:OPAQUE
SEQUENCE:0
UID:57374-veranstaltung@kgju.ch
DTSTAMP:20260417T065341Z
DESCRIPTION:Kontakt: Tsering Habich\n076 565 11 50\n\nWeitere Infos:
  https://www.kgju.ch/veranstaltung/57374
SUMMARY:Pflege der Eidechsenanlage
PRIORITY:5
X-MICROSOFT-CDO-IMPORTANCE:1
CLASS:PUBLIC
END:VEVENT
END:VCALENDAR
